BEGIN:VCALENDAR
VERSION:2.0
PRODID:-//Intand Corporation//Tandem//EN
METHOD:PUBLISH
BEGIN:VEVENT
DTSTAMP:20260421T213118Z
DTSTART:20270501T130000Z
DTEND:20270501T180000Z
TRANSP:TRANSPARENT
PRIORITY:0
SUMMARY:TO2 Craig Black 2392483697
LOCATION:Boats > Team Ocean 2 (17' Carolina Skiff - SIR W)
DESCRIPTION:team ocean patrol\n\nLocation:\nBoats > Team Ocean 2 (17' Caro
 lina Skiff - SIR W)\n\n
URL;VALUE=URI:https://fdep.tandem.co/index.php?type=view&action=event&id=3
 8136
CREATED:20230302T001211Z
LAST-MODIFIED:20230302T001211Z
UID:event-38136-fdep@intand.com
END:VEVENT
END:VCALENDAR
