BEGIN:VCALENDAR
VERSION:2.0
PRODID:-//Intand Corporation//Tandem//EN
METHOD:PUBLISH
BEGIN:VEVENT
DTSTAMP:20260421T185823Z
DTSTART:20260418T133000Z
DTEND:20260418T163000Z
TRANSP:TRANSPARENT
PRIORITY:0
SUMMARY:Palmetto- Essentials of Digital Photography
LOCATION:Rookery Bay Research Reserve > Environmental Learning Center > Pa
 lmetto Classroom
DESCRIPTION:Setup: 9:00 am\nBreakdown: 1:00 pm\n\nLocation:\nRookery Bay R
 esearch Reserve > Environmental Learning Center > Palmetto Classroom\n\n
URL;VALUE=URI:https://fdep.tandem.co/index.php?type=view&action=event&id=5
 5239
CREATED:20250716T121932Z
LAST-MODIFIED:20250716T121932Z
UID:event-55239-fdep@intand.com
END:VEVENT
END:VCALENDAR
