BEGIN:VCALENDAR
VERSION:2.0
PRODID:-//Intand Corporation//Tandem//EN
METHOD:PUBLISH
BEGIN:VEVENT
DTSTAMP:20260421T185455Z
DTSTART:20260409T110000Z
DTEND:20260409T190000Z
TRANSP:TRANSPARENT
PRIORITY:0
SUMMARY:[Cancelled] TO 3 Goodland Patrol - Joe Cardinale 203-641-5047
LOCATION:Boats > Team Ocean 3 (19' Carolina Skiff- Goodland W)
DESCRIPTION:Location:\nBoats > Team Ocean 3 (19' Carolina Skiff- Goodland 
 W)\n\n
URL;VALUE=URI:https://fdep.tandem.co/index.php?type=view&action=event&id=5
 7822
CREATED:20251211T232712Z
LAST-MODIFIED:20260408T150140Z
UID:event-57822-fdep@intand.com
END:VEVENT
END:VCALENDAR
