BEGIN:VCALENDAR
VERSION:2.0
PRODID:-//Intand Corporation//Tandem//EN
METHOD:PUBLISH
BEGIN:VEVENT
DTSTAMP:20260421T185605Z
DTSTART:20260421T140000Z
DTEND:20260421T200000Z
TRANSP:TRANSPARENT
PRIORITY:0
SUMMARY:Buttonwood- Face to Face Admin Meeting
LOCATION:Rookery Bay Research Reserve > Environmental Learning Center > Bu
 ttonwood Classroom
DESCRIPTION:Location:\nRookery Bay Research Reserve > Environmental Learni
 ng Center > Buttonwood Classroom\n\n
URL;VALUE=URI:https://fdep.tandem.co/index.php?type=view&action=event&id=5
 8423
CREATED:20260115T194331Z
LAST-MODIFIED:20260421T122252Z
UID:event-58423-fdep@intand.com
END:VEVENT
END:VCALENDAR
