BEGIN:VCALENDAR
VERSION:2.0
PRODID:-//Intand Corporation//Tandem//EN
METHOD:PUBLISH
BEGIN:VEVENT
DTSTAMP:20260421T184955Z
DTSTART:20260422T123000Z
DTEND:20260422T193000Z
TRANSP:TRANSPARENT
PRIORITY:0
SUMMARY:Buttonwood -Face to Face Admin Meeting
LOCATION:Rookery Bay Research Reserve > Environmental Learning Center > Ba
 ck Courtyard
DESCRIPTION:Location:\nRookery Bay Research Reserve > Environmental Learni
 ng Center > Back Courtyard\n\n
URL;VALUE=URI:https://fdep.tandem.co/index.php?type=view&action=event&id=5
 8424
CREATED:20260115T194331Z
LAST-MODIFIED:20260421T122341Z
UID:event-58424-fdep@intand.com
END:VEVENT
END:VCALENDAR
