BEGIN:VCALENDAR
VERSION:2.0
PRODID:-//Intand Corporation//Tandem//EN
METHOD:PUBLISH
BEGIN:VEVENT
DTSTAMP:20260421T184204Z
DTSTART:20260418T153000Z
DTEND:20260418T190000Z
TRANSP:TRANSPARENT
PRIORITY:0
SUMMARY:Exhibit Hall - Lely Presbyterian Church
LOCATION:Environmental Learning Center > Exhibit Hall
DESCRIPTION:Beth Thompson (Vol.) 239-877-7102 will give a guided tour as t
 his is her church. May have lunch outside too.\n\n\nLocation:\nEnvironment
 al Learning Center > Exhibit Hall\n\n
URL;VALUE=URI:https://fdep.tandem.co/index.php?type=view&action=event&id=5
 8876
CREATED:20260212T135529Z
LAST-MODIFIED:20260212T135529Z
UID:event-58876-fdep@intand.com
END:VEVENT
END:VCALENDAR
