BEGIN:VCALENDAR
VERSION:2.0
PRODID:-//Intand Corporation//Tandem//EN
METHOD:PUBLISH
BEGIN:VEVENT
DTSTAMP:20260421T214038Z
DTSTART;VALUE=DATE:20261001
DTEND;VALUE=DATE:20261011
TRANSP:TRANSPARENT
PRIORITY:0
SUMMARY:Shell Key- #2 Turtle Intern
LOCATION:Goodland Field Station > Shell Key (Middle Room) > Bed 1 (left)
DESCRIPTION:Location:\nGoodland Field Station > Shell Key (Middle Room) > 
 Bed 1 (left)\n\n
URL;VALUE=URI:https://fdep.tandem.co/index.php?type=view&action=event&id=5
 9025
CREATED:20260217T131001Z
LAST-MODIFIED:20260217T131001Z
UID:event-59025-fdep@intand.com
END:VEVENT
END:VCALENDAR
