BEGIN:VCALENDAR
VERSION:2.0
PRODID:-//Intand Corporation//Tandem//EN
METHOD:PUBLISH
BEGIN:VEVENT
DTSTAMP:20260421T184954Z
DTSTART:20260416T130000Z
DTEND:20260416T190000Z
TRANSP:TRANSPARENT
PRIORITY:0
SUMMARY:TO2- Bridget Hennebry TO 773-726-3446
LOCATION:Boats > Team Ocean 2 (17' Carolina Skiff - SIR W)
DESCRIPTION:Location:\nBoats > Team Ocean 2 (17' Carolina Skiff - SIR W)\n
 \n
URL;VALUE=URI:https://fdep.tandem.co/index.php?type=view&action=event&id=5
 9341
CREATED:20260306T190913Z
LAST-MODIFIED:20260326T181542Z
UID:event-59341-fdep@intand.com
END:VEVENT
END:VCALENDAR
