BEGIN:VCALENDAR
VERSION:2.0
PRODID:-//Intand Corporation//Tandem//EN
METHOD:PUBLISH
BEGIN:VEVENT
DTSTAMP:20260421T185219Z
DTSTART:20260331T130000Z
DTEND:20260331T190000Z
TRANSP:TRANSPARENT
PRIORITY:0
SUMMARY:[Cancelled] TO3 BOB VERICELLA 309-261-8000
LOCATION:Boats > Team Ocean 3 (19' Carolina Skiff- Goodland W)
DESCRIPTION:Patrol Second Chance\n\n\nLocation:\nBoats > Team Ocean 3 (19'
  Carolina Skiff- Goodland W)\n\n
URL;VALUE=URI:https://fdep.tandem.co/index.php?type=view&action=event&id=5
 9745
CREATED:20260318T151834Z
LAST-MODIFIED:20260329T180505Z
UID:event-59745-fdep@intand.com
END:VEVENT
END:VCALENDAR
