BEGIN:VCALENDAR
VERSION:2.0
PRODID:-//Intand Corporation//Tandem//EN
METHOD:PUBLISH
BEGIN:VEVENT
DTSTAMP:20260421T185325Z
DTSTART:20260409T143000Z
DTEND:20260409T180000Z
TRANSP:TRANSPARENT
PRIORITY:0
SUMMARY:F150 White 22509 - Rachel Schneberger 908-323-8487
LOCATION:Vehicles > F150 White 22509
DESCRIPTION:Location:\nVehicles > F150 White 22509\n\n
URL;VALUE=URI:https://fdep.tandem.co/index.php?type=view&action=event&id=5
 9931
CREATED:20260328T144750Z
LAST-MODIFIED:20260403T123728Z
UID:event-59931-fdep@intand.com
END:VEVENT
END:VCALENDAR
