BEGIN:VCALENDAR
VERSION:2.0
PRODID:-//Intand Corporation//Tandem//EN
METHOD:PUBLISH
BEGIN:VEVENT
DTSTAMP:20260421T185246Z
DTSTART:20260407T123000Z
DTEND:20260407T190000Z
TRANSP:TRANSPARENT
PRIORITY:0
SUMMARY:[Cancelled] TO2 Blazejewski 630-917-0534
LOCATION:Boats > Team Ocean 2 (17' Carolina Skiff - SIR W)
DESCRIPTION:Location:\nBoats > Team Ocean 2 (17' Carolina Skiff - SIR W)\n
 \n
URL;VALUE=URI:https://fdep.tandem.co/index.php?type=view&action=event&id=5
 9939
CREATED:20260330T094456Z
LAST-MODIFIED:20260406T144347Z
UID:event-59939-fdep@intand.com
END:VEVENT
END:VCALENDAR
