BEGIN:VCALENDAR
VERSION:2.0
PRODID:-//Intand Corporation//Tandem//EN
METHOD:PUBLISH
BEGIN:VEVENT
DTSTAMP:20260421T184954Z
DTSTART:20260406T180000Z
DTEND:20260406T200000Z
TRANSP:TRANSPARENT
PRIORITY:0
SUMMARY:Always Honest Air - ELC Repair AC Unit 
LOCATION:Rookery Bay Research Reserve > Environmental Learning Center
DESCRIPTION:Tech comming to see what is wrong with the AC Unit\n\n\nLocati
 on:\nRookery Bay Research Reserve > Environmental Learning Center\n\n
URL;VALUE=URI:https://fdep.tandem.co/index.php?type=view&action=event&id=6
 0036
CREATED:20260406T134041Z
LAST-MODIFIED:20260406T134041Z
UID:event-60036-fdep@intand.com
END:VEVENT
END:VCALENDAR
