BEGIN:VCALENDAR
VERSION:2.0
PRODID:-//Intand Corporation//Tandem//EN
METHOD:PUBLISH
BEGIN:VEVENT
DTSTAMP:20260421T184306Z
DTSTART:20260417T130000Z
DTEND:20260417T190000Z
TRANSP:TRANSPARENT
PRIORITY:0
SUMMARY:TO3 VO John Steiner 847-337-5077
LOCATION:Boats > Team Ocean 3 (19' Carolina Skiff- Goodland W)
DESCRIPTION:Goodland mentoring sortie to SC and environs\n\n\nLocation:\nB
 oats > Team Ocean 3 (19' Carolina Skiff- Goodland W)\n\n
URL;VALUE=URI:https://fdep.tandem.co/index.php?type=view&action=event&id=6
 0047
CREATED:20260407T162848Z
LAST-MODIFIED:20260407T162848Z
UID:event-60047-fdep@intand.com
END:VEVENT
END:VCALENDAR
