BEGIN:VCALENDAR
VERSION:2.0
PRODID:-//Intand Corporation//Tandem//EN
METHOD:PUBLISH
BEGIN:VEVENT
DTSTAMP:20260421T212457Z
DTSTART:20260626T113000Z
DTEND:20260626T173000Z
TRANSP:TRANSPARENT
PRIORITY:0
SUMMARY:F150 White 22511- Falkowski 814-449-8900
LOCATION:Vehicles > F150 White 22511
DESCRIPTION:Location:\nVehicles > F150 White 22511\n\n
URL;VALUE=URI:https://fdep.tandem.co/index.php?type=view&action=event&id=6
 0066
CREATED:20260407T174248Z
LAST-MODIFIED:20260407T174248Z
UID:event-60066-fdep@intand.com
END:VEVENT
END:VCALENDAR
