BEGIN:VCALENDAR
VERSION:2.0
PRODID:-//Intand Corporation//Tandem//EN
METHOD:PUBLISH
BEGIN:VEVENT
DTSTAMP:20260421T214038Z
DTSTART:20260520T170000Z
DTEND:20260520T180000Z
TRANSP:TRANSPARENT
PRIORITY:0
SUMMARY:Danielle - Small Conference Rm - 954-254-8250
LOCATION:Administration Building > Admin Conference Room
DESCRIPTION:Monthly Sector Leads meeting\n\n\nLocation:\nAdministration Bu
 ilding > Admin Conference Room\n\n
URL;VALUE=URI:https://fdep.tandem.co/index.php?type=view&action=event&id=6
 0098
CREATED:20260409T002917Z
LAST-MODIFIED:20260409T002917Z
UID:event-60098-fdep@intand.com
END:VEVENT
END:VCALENDAR
