BEGIN:VCALENDAR
VERSION:2.0
PRODID:-//Intand Corporation//Tandem//EN
METHOD:PUBLISH
BEGIN:VEVENT
DTSTAMP:20260421T184856Z
DTSTART:20260410T120000Z
DTEND:20260410T180000Z
TRANSP:TRANSPARENT
PRIORITY:0
SUMMARY:F150 22379 Dan 561-460-7813
LOCATION:Vehicles > F150 White 22379 
DESCRIPTION:Location:\nVehicles > F150 White 22379 \n\n
URL;VALUE=URI:https://fdep.tandem.co/index.php?type=view&action=event&id=6
 0101
CREATED:20260409T125541Z
LAST-MODIFIED:20260409T125541Z
UID:event-60101-fdep@intand.com
END:VEVENT
END:VCALENDAR
