BEGIN:VCALENDAR
VERSION:2.0
PRODID:-//Intand Corporation//Tandem//EN
METHOD:PUBLISH
BEGIN:VEVENT
DTSTAMP:20260421T212411Z
DTSTART:20260508T190000Z
DTEND:20260508T210000Z
TRANSP:TRANSPARENT
PRIORITY:0
SUMMARY:Palmetto - Nerea 239 231 6262
LOCATION:Rookery Bay Research Reserve > Environmental Learning Center > Pa
 lmetto Classroom
DESCRIPTION:Meet with Andrew Hill\n\n\nLocation:\nRookery Bay Research Res
 erve > Environmental Learning Center > Palmetto Classroom\n\n
URL;VALUE=URI:https://fdep.tandem.co/index.php?type=view&action=event&id=6
 0112
CREATED:20260410T001258Z
LAST-MODIFIED:20260410T001334Z
UID:event-60112-fdep@intand.com
END:VEVENT
END:VCALENDAR
