BEGIN:VCALENDAR
VERSION:2.0
PRODID:-//Intand Corporation//Tandem//EN
METHOD:PUBLISH
BEGIN:VEVENT
DTSTAMP:20260421T185040Z
DTSTART:20260412T130000Z
DTEND:20260412T190000Z
TRANSP:TRANSPARENT
PRIORITY:0
SUMMARY:Serenia Joy Kowalski 732-996-8612
LOCATION:Boats > Sirenia (TO) (19' Carolina Skiff SIR W SIR)
DESCRIPTION:Keewaydin Patrol\n\n\nLocation:\nBoats > Sirenia (TO) (19' Car
 olina Skiff SIR W SIR)\n\n
URL;VALUE=URI:https://fdep.tandem.co/index.php?type=view&action=event&id=6
 0127
CREATED:20260411T181310Z
LAST-MODIFIED:20260411T181310Z
UID:event-60127-fdep@intand.com
END:VEVENT
END:VCALENDAR
