BEGIN:VCALENDAR
VERSION:2.0
PRODID:-//Intand Corporation//Tandem//EN
METHOD:PUBLISH
BEGIN:VEVENT
DTSTAMP:20260421T185122Z
DTSTART:20260416T143000Z
DTEND:20260416T210000Z
TRANSP:TRANSPARENT
PRIORITY:0
SUMMARY:Croc survey Marco + Curcie F250 W Diesel  Steve 239-253-3066
LOCATION:Vehicles > F250 White Diesel DEP21869
DESCRIPTION:Location:\nVehicles > F250 White Diesel DEP21869\n\n
URL;VALUE=URI:https://fdep.tandem.co/index.php?type=view&action=event&id=6
 0142
CREATED:20260413T164627Z
LAST-MODIFIED:20260413T165013Z
UID:event-60142-fdep@intand.com
END:VEVENT
END:VCALENDAR
