BEGIN:VCALENDAR
VERSION:2.0
PRODID:-//Intand Corporation//Tandem//EN
METHOD:PUBLISH
BEGIN:VEVENT
DTSTAMP:20260421T184307Z
DTSTART:20260414T113000Z
DTEND:20260414T210000Z
TRANSP:TRANSPARENT
PRIORITY:0
SUMMARY:F250 69 Frank 219-406-0090
LOCATION:Vehicles > F250 White Diesel DEP21869
DESCRIPTION:Location:\nVehicles > F250 White Diesel DEP21869\n\n
URL;VALUE=URI:https://fdep.tandem.co/index.php?type=view&action=event&id=6
 0152
CREATED:20260414T110849Z
LAST-MODIFIED:20260414T110849Z
UID:event-60152-fdep@intand.com
END:VEVENT
END:VCALENDAR
