BEGIN:VCALENDAR
VERSION:2.0
PRODID:-//Intand Corporation//Tandem//EN
METHOD:PUBLISH
BEGIN:VEVENT
DTSTAMP:20260421T185220Z
DTSTART:20260417T140000Z
DTEND:20260417T160000Z
TRANSP:TRANSPARENT
PRIORITY:0
SUMMARY:Tursiops Nick Lechmanik-610-217-6947
LOCATION:Boats > Tursiops (17' Carolina Skiff - SIR W) 
DESCRIPTION:Location:\nBoats > Tursiops (17' Carolina Skiff - SIR W) \n\n
URL;VALUE=URI:https://fdep.tandem.co/index.php?type=view&action=event&id=6
 0216
CREATED:20260417T140736Z
LAST-MODIFIED:20260417T140736Z
UID:event-60216-fdep@intand.com
END:VEVENT
END:VCALENDAR
