BEGIN:VCALENDAR
VERSION:2.0
PRODID:-//Intand Corporation//Tandem//EN
METHOD:PUBLISH
BEGIN:VEVENT
DTSTAMP:20260421T185122Z
DTSTART:20260417T140000Z
DTEND:20260417T170000Z
TRANSP:TRANSPARENT
PRIORITY:0
SUMMARY:Escape-Nick Lechmanik 610-217-6947
LOCATION:Vehicles > Escape DEP22471
DESCRIPTION:Location:\nVehicles > Escape DEP22471\n\n
URL;VALUE=URI:https://fdep.tandem.co/index.php?type=view&action=event&id=6
 0217
CREATED:20260417T140812Z
LAST-MODIFIED:20260417T140812Z
UID:event-60217-fdep@intand.com
END:VEVENT
END:VCALENDAR
