BEGIN:VCALENDAR
VERSION:2.0
PRODID:-//Intand Corporation//Tandem//EN
METHOD:PUBLISH
BEGIN:VEVENT
DTSTAMP:20260421T185450Z
DTSTART:20260430T113000Z
DTEND:20260430T150000Z
TRANSP:TRANSPARENT
PRIORITY:0
SUMMARY:Sirenia - Megan Hatten
LOCATION:Boats > Sirenia (TO) (19' Carolina Skiff SIR W SIR)
DESCRIPTION:Location:\nBoats > Sirenia (TO) (19' Carolina Skiff SIR W SIR)
 \n\n
URL;VALUE=URI:https://fdep.tandem.co/index.php?type=view&action=event&id=6
 0242
CREATED:20260420T162443Z
LAST-MODIFIED:20260420T162443Z
UID:event-60242-fdep@intand.com
END:VEVENT
END:VCALENDAR
