BEGIN:VCALENDAR
VERSION:2.0
PRODID:-//Intand Corporation//Tandem//EN
METHOD:PUBLISH
BEGIN:VEVENT
DTSTAMP:20260421T184205Z
DTSTART:20260421T130000Z
DTEND:20260421T180000Z
TRANSP:TRANSPARENT
PRIORITY:0
SUMMARY:Escape 65 PM
LOCATION:Vehicles > Escape DEP21365
DESCRIPTION:Location:\nVehicles > Escape DEP21365\n\n
URL;VALUE=URI:https://fdep.tandem.co/index.php?type=view&action=event&id=6
 0244
CREATED:20260420T162731Z
LAST-MODIFIED:20260420T162731Z
UID:event-60244-fdep@intand.com
END:VEVENT
END:VCALENDAR
