BEGIN:VCALENDAR
VERSION:2.0
PRODID:-//Intand Corporation//Tandem//EN
METHOD:PUBLISH
BEGIN:VEVENT
DTSTAMP:20260421T185123Z
DTSTART:20260427T120000Z
DTEND:20260427T160000Z
TRANSP:TRANSPARENT
PRIORITY:0
SUMMARY:Ridley Dan 561-460-7813
LOCATION:Boats > Ridley (17' Carolina Skiff- SIR W)
DESCRIPTION:Location:\nBoats > Ridley (17' Carolina Skiff- SIR W)\n\n
URL;VALUE=URI:https://fdep.tandem.co/index.php?type=view&action=event&id=6
 0246
CREATED:20260420T164630Z
LAST-MODIFIED:20260420T164630Z
UID:event-60246-fdep@intand.com
END:VEVENT
END:VCALENDAR
